BEGIN:VCALENDAR
VERSION:2.0
PRODID:-// - ECPv6.15.18//NONSGML v1.0//EN
CALSCALE:GREGORIAN
METHOD:PUBLISH
X-ORIGINAL-URL:https://omnipatientadvocates.com
X-WR-CALDESC:Events for 
REFRESH-INTERVAL;VALUE=DURATION:PT1H
X-Robots-Tag:noindex
X-PUBLISHED-TTL:PT1H
BEGIN:VTIMEZONE
TZID:UTC
BEGIN:STANDARD
TZOFFSETFROM:+0000
TZOFFSETTO:+0000
TZNAME:UTC
DTSTART:20170101T000000
END:STANDARD
END:VTIMEZONE
BEGIN:VEVENT
DTSTART;TZID=UTC:20180422T090000
DTEND;TZID=UTC:20180422T200000
DTSTAMP:20260423T071249
CREATED:20180411T181854Z
LAST-MODIFIED:20180411T182512Z
UID:2768-1524387600-1524427200@omnipatientadvocates.com
SUMMARY:CannaFest - APT BOOKINGS ONLY
DESCRIPTION:Omni Medical Services of PA and PA Safe Access will share a booth a this year’s CannaFest in Scranton! \nWe will be answering questions and booking appointments ONLY. Schedule your appointment for your medical marijuana certification.
URL:https://omnipatientadvocates.com/event/cannafest-apt-bookings-only/
LOCATION:PA
END:VEVENT
END:VCALENDAR