BEGIN:VCALENDAR
VERSION:2.0
PRODID:-// - ECPv6.15.20//NONSGML v1.0//EN
CALSCALE:GREGORIAN
METHOD:PUBLISH
X-ORIGINAL-URL:https://omnipatientadvocates.com
X-WR-CALDESC:Events for 
REFRESH-INTERVAL;VALUE=DURATION:PT1H
X-Robots-Tag:noindex
X-PUBLISHED-TTL:PT1H
BEGIN:VTIMEZONE
TZID:UTC
BEGIN:STANDARD
TZOFFSETFROM:+0000
TZOFFSETTO:+0000
TZNAME:UTC
DTSTART:20170101T000000
END:STANDARD
END:VTIMEZONE
BEGIN:VEVENT
DTSTART;TZID=UTC:20180511T110000
DTEND;TZID=UTC:20180511T190000
DTSTAMP:20260423T105133
CREATED:20180328T185904Z
LAST-MODIFIED:20180423T180743Z
UID:2744-1526036400-1526065200@omnipatientadvocates.com
SUMMARY:Omni Clinic - Camp Hill
DESCRIPTION:We’re helping patients to a better quality of life! Get your medical marijuana certification quickly and professionally.
URL:https://omnipatientadvocates.com/event/omni-clinic-camp-hill-5/
LOCATION:Camp Hill\, 3419 Market Street\, PA\, 17011\, United States
END:VEVENT
END:VCALENDAR