BEGIN:VCALENDAR
VERSION:2.0
PRODID:-// - ECPv6.15.20//NONSGML v1.0//EN
CALSCALE:GREGORIAN
METHOD:PUBLISH
X-ORIGINAL-URL:https://omnipatientadvocates.com
X-WR-CALDESC:Events for 
REFRESH-INTERVAL;VALUE=DURATION:PT1H
X-Robots-Tag:noindex
X-PUBLISHED-TTL:PT1H
BEGIN:VTIMEZONE
TZID:UTC
BEGIN:STANDARD
TZOFFSETFROM:+0000
TZOFFSETTO:+0000
TZNAME:UTC
DTSTART:20170101T000000
END:STANDARD
END:VTIMEZONE
BEGIN:VEVENT
DTSTART;TZID=UTC:20180602T120000
DTEND;TZID=UTC:20180602T150000
DTSTAMP:20260423T145916
CREATED:20180527T180655Z
LAST-MODIFIED:20180527T180655Z
UID:2822-1527940800-1527951600@omnipatientadvocates.com
SUMMARY:PA Medical Marijuana Info Session
DESCRIPTION:We will be discussing how to get your medical card\, where dispensaries are located\, what Pennsylvania products are available\, and what qualifying conditions are covered. There will be a presentation promptly at 12:15. Followed by Q&A and a tour of Omni Medical Services. The presentation will be given next door at the remax office. It is handicap accessible and there is adequate parking free for attendants. We will also be serving hamburgers and hotdogs.
URL:https://omnipatientadvocates.com/event/pa-medical-marijuana-info-session/
LOCATION:Camp Hill\, 3419 Market Street\, PA\, 17011\, United States
END:VEVENT
BEGIN:VEVENT
DTSTART;TZID=UTC:20180602T153000
DTEND;TZID=UTC:20180602T180000
DTSTAMP:20260423T145916
CREATED:20180528T200027Z
LAST-MODIFIED:20180528T200027Z
UID:2833-1527953400-1527962400@omnipatientadvocates.com
SUMMARY:Info Session Post-Clinic
DESCRIPTION:We’ll be holding a clinic after our Pennsylvania Medical Marijuana Info Session. Get your medical marijuana for compassionate and caring professionals!
URL:https://omnipatientadvocates.com/event/info-session-post-clinic/
LOCATION:Camp Hill\, 3419 Market Street\, PA\, 17011\, United States
END:VEVENT
END:VCALENDAR