BEGIN:VCALENDAR
VERSION:2.0
PRODID:-// - ECPv6.15.18//NONSGML v1.0//EN
CALSCALE:GREGORIAN
METHOD:PUBLISH
X-ORIGINAL-URL:https://omnipatientadvocates.com
X-WR-CALDESC:Events for 
REFRESH-INTERVAL;VALUE=DURATION:PT1H
X-Robots-Tag:noindex
X-PUBLISHED-TTL:PT1H
BEGIN:VTIMEZONE
TZID:UTC
BEGIN:STANDARD
TZOFFSETFROM:+0000
TZOFFSETTO:+0000
TZNAME:UTC
DTSTART:20170101T000000
END:STANDARD
END:VTIMEZONE
BEGIN:VEVENT
DTSTART;TZID=UTC:20180607T090000
DTEND;TZID=UTC:20180607T170000
DTSTAMP:20260423T071300
CREATED:20180423T181311Z
LAST-MODIFIED:20180423T181311Z
UID:2781-1528362000-1528390800@omnipatientadvocates.com
SUMMARY:Omni Clinic - Huntingdon
DESCRIPTION:We’re helping patients to a better quality of life! Get your medical marijuana certification quickly and professionally.
URL:https://omnipatientadvocates.com/event/omni-clinic-huntingdon-6/
LOCATION:PA
END:VEVENT
END:VCALENDAR