BEGIN:VCALENDAR
VERSION:2.0
PRODID:-// - ECPv6.15.18//NONSGML v1.0//EN
CALSCALE:GREGORIAN
METHOD:PUBLISH
X-ORIGINAL-URL:https://omnipatientadvocates.com
X-WR-CALDESC:Events for 
REFRESH-INTERVAL;VALUE=DURATION:PT1H
X-Robots-Tag:noindex
X-PUBLISHED-TTL:PT1H
BEGIN:VTIMEZONE
TZID:UTC
BEGIN:STANDARD
TZOFFSETFROM:+0000
TZOFFSETTO:+0000
TZNAME:UTC
DTSTART:20170101T000000
END:STANDARD
END:VTIMEZONE
BEGIN:VEVENT
DTSTART;VALUE=DATE:20180630
DTEND;VALUE=DATE:20180701
DTSTAMP:20260422T175329
CREATED:20180619T204126Z
LAST-MODIFIED:20180620T134633Z
UID:2873-1530316800-1530403199@omnipatientadvocates.com
SUMMARY:High Vibe Event - Doylestown
DESCRIPTION:We’re helping patients to a better quality of life! Get your medical marijuana certification quickly and professionally. \nLocated at Delaware Valley College during the High Vibe Event.
URL:https://omnipatientadvocates.com/event/omni-clinic-doylestown/
LOCATION:PA
END:VEVENT
END:VCALENDAR