BEGIN:VCALENDAR
VERSION:2.0
PRODID:-// - ECPv6.15.18//NONSGML v1.0//EN
CALSCALE:GREGORIAN
METHOD:PUBLISH
X-ORIGINAL-URL:https://omnipatientadvocates.com
X-WR-CALDESC:Events for 
REFRESH-INTERVAL;VALUE=DURATION:PT1H
X-Robots-Tag:noindex
X-PUBLISHED-TTL:PT1H
BEGIN:VTIMEZONE
TZID:UTC
BEGIN:STANDARD
TZOFFSETFROM:+0000
TZOFFSETTO:+0000
TZNAME:UTC
DTSTART:20170101T000000
END:STANDARD
END:VTIMEZONE
BEGIN:VEVENT
DTSTART;VALUE=DATE:20180728
DTEND;VALUE=DATE:20180729
DTSTAMP:20260422T171952
CREATED:20180619T205255Z
LAST-MODIFIED:20180706T165137Z
UID:2890-1532736000-1532822399@omnipatientadvocates.com
SUMMARY:Pride Fest of Cent PA - Harrisburg
DESCRIPTION:We will be answering questions and booking appointments ONLY. Schedule your appointment for your medical marijuana certification.
URL:https://omnipatientadvocates.com/event/omni-clinic-state-college-2/
LOCATION:Riverfront Park\, 200 S Front St\, Harrisburg\, PA\, 17104\, United States
END:VEVENT
END:VCALENDAR