BEGIN:VCALENDAR
VERSION:2.0
PRODID:-// - ECPv6.15.20//NONSGML v1.0//EN
CALSCALE:GREGORIAN
METHOD:PUBLISH
X-ORIGINAL-URL:https://omnipatientadvocates.com
X-WR-CALDESC:Events for 
REFRESH-INTERVAL;VALUE=DURATION:PT1H
X-Robots-Tag:noindex
X-PUBLISHED-TTL:PT1H
BEGIN:VTIMEZONE
TZID:UTC
BEGIN:STANDARD
TZOFFSETFROM:+0000
TZOFFSETTO:+0000
TZNAME:UTC
DTSTART:20170101T000000
END:STANDARD
END:VTIMEZONE
BEGIN:VEVENT
DTSTART;TZID=UTC:20180804T120000
DTEND;TZID=UTC:20180804T170000
DTSTAMP:20260423T134101
CREATED:20180619T205723Z
LAST-MODIFIED:20180720T190154Z
UID:2902-1533384000-1533402000@omnipatientadvocates.com
SUMMARY:Omni Clinic - State College
DESCRIPTION:We’re helping patients to a better quality of life! Get your medical marijuana certification quickly and professionally.
URL:https://omnipatientadvocates.com/event/omni-clinic-state-college-3/
LOCATION:PA
END:VEVENT
END:VCALENDAR