BEGIN:VCALENDAR
VERSION:2.0
PRODID:-// - ECPv6.15.18//NONSGML v1.0//EN
CALSCALE:GREGORIAN
METHOD:PUBLISH
X-ORIGINAL-URL:https://omnipatientadvocates.com
X-WR-CALDESC:Events for 
REFRESH-INTERVAL;VALUE=DURATION:PT1H
X-Robots-Tag:noindex
X-PUBLISHED-TTL:PT1H
BEGIN:VTIMEZONE
TZID:UTC
BEGIN:STANDARD
TZOFFSETFROM:+0000
TZOFFSETTO:+0000
TZNAME:UTC
DTSTART:20170101T000000
END:STANDARD
END:VTIMEZONE
BEGIN:VEVENT
DTSTART;TZID=UTC:20180809T130000
DTEND;TZID=UTC:20180809T180000
DTSTAMP:20260422T133548
CREATED:20180619T205440Z
LAST-MODIFIED:20180720T191125Z
UID:2894-1533819600-1533837600@omnipatientadvocates.com
SUMMARY:Omni Clinic - Plymouth / Philly
DESCRIPTION:We’re helping patients to a better quality of life! Get your medical marijuana certification quickly and professionally.
URL:https://omnipatientadvocates.com/event/omni-clinic-camp-hill-17/
LOCATION:PA
END:VEVENT
END:VCALENDAR