BEGIN:VCALENDAR
VERSION:2.0
PRODID:-// - ECPv6.15.18//NONSGML v1.0//EN
CALSCALE:GREGORIAN
METHOD:PUBLISH
X-ORIGINAL-URL:https://omnipatientadvocates.com
X-WR-CALDESC:Events for 
REFRESH-INTERVAL;VALUE=DURATION:PT1H
X-Robots-Tag:noindex
X-PUBLISHED-TTL:PT1H
BEGIN:VTIMEZONE
TZID:UTC
BEGIN:STANDARD
TZOFFSETFROM:+0000
TZOFFSETTO:+0000
TZNAME:UTC
DTSTART:20170101T000000
END:STANDARD
END:VTIMEZONE
BEGIN:VEVENT
DTSTART;TZID=UTC:20181102T120000
DTEND;TZID=UTC:20181102T160000
DTSTAMP:20260422T090725
CREATED:20181010T010646Z
LAST-MODIFIED:20181010T010646Z
UID:3069-1541160000-1541174400@omnipatientadvocates.com
SUMMARY:Omni Clinic - Williamsport
DESCRIPTION:We’re helping patients to a better quality of life! Get your medical marijuana certification quickly and professionally.
URL:https://omnipatientadvocates.com/event/omni-clinic-williamsport-3/
LOCATION:PA
END:VEVENT
END:VCALENDAR