BEGIN:VCALENDAR
VERSION:2.0
PRODID:-// - ECPv6.15.18//NONSGML v1.0//EN
CALSCALE:GREGORIAN
METHOD:PUBLISH
X-ORIGINAL-URL:https://omnipatientadvocates.com
X-WR-CALDESC:Events for 
REFRESH-INTERVAL;VALUE=DURATION:PT1H
X-Robots-Tag:noindex
X-PUBLISHED-TTL:PT1H
BEGIN:VTIMEZONE
TZID:UTC
BEGIN:STANDARD
TZOFFSETFROM:+0000
TZOFFSETTO:+0000
TZNAME:UTC
DTSTART:20180101T000000
END:STANDARD
END:VTIMEZONE
BEGIN:VEVENT
DTSTART;TZID=UTC:20190124T190000
DTEND;TZID=UTC:20190124T203000
DTSTAMP:20260422T055154
CREATED:20190108T183440Z
LAST-MODIFIED:20190108T183440Z
UID:3207-1548356400-1548361800@omnipatientadvocates.com
SUMMARY:Enola Legion post 0751 - Outreach
DESCRIPTION:
URL:https://omnipatientadvocates.com/event/enola-legion-post-0751-outreach/
LOCATION:PA
END:VEVENT
END:VCALENDAR