BEGIN:VCALENDAR
VERSION:2.0
PRODID:-// - ECPv6.15.18//NONSGML v1.0//EN
CALSCALE:GREGORIAN
METHOD:PUBLISH
X-ORIGINAL-URL:https://omnipatientadvocates.com
X-WR-CALDESC:Events for 
REFRESH-INTERVAL;VALUE=DURATION:PT1H
X-Robots-Tag:noindex
X-PUBLISHED-TTL:PT1H
BEGIN:VTIMEZONE
TZID:UTC
BEGIN:STANDARD
TZOFFSETFROM:+0000
TZOFFSETTO:+0000
TZNAME:UTC
DTSTART:20180101T000000
END:STANDARD
END:VTIMEZONE
BEGIN:VEVENT
DTSTART;TZID=UTC:20190131T010000
DTEND;TZID=UTC:20190131T180000
DTSTAMP:20260422T042602
CREATED:20181226T181645Z
LAST-MODIFIED:20190128T122129Z
UID:3181-1548896400-1548957600@omnipatientadvocates.com
SUMMARY:Omni PA Clinic - Lancaster
DESCRIPTION:
URL:https://omnipatientadvocates.com/event/omni-pa-clinic/
LOCATION:PA
END:VEVENT
END:VCALENDAR