BEGIN:VCALENDAR
VERSION:2.0
PRODID:-// - ECPv6.15.18//NONSGML v1.0//EN
CALSCALE:GREGORIAN
METHOD:PUBLISH
X-ORIGINAL-URL:https://omnipatientadvocates.com
X-WR-CALDESC:Events for 
REFRESH-INTERVAL;VALUE=DURATION:PT1H
X-Robots-Tag:noindex
X-PUBLISHED-TTL:PT1H
BEGIN:VTIMEZONE
TZID:UTC
BEGIN:STANDARD
TZOFFSETFROM:+0000
TZOFFSETTO:+0000
TZNAME:UTC
DTSTART:20180101T000000
END:STANDARD
END:VTIMEZONE
BEGIN:VEVENT
DTSTART;TZID=UTC:20190212T110000
DTEND;TZID=UTC:20190212T150000
DTSTAMP:20260421T165633
CREATED:20190107T224918Z
LAST-MODIFIED:20190107T224918Z
UID:3192-1549969200-1549983600@omnipatientadvocates.com
SUMMARY:Omni PA Clinic - Lancaster
DESCRIPTION:
URL:https://omnipatientadvocates.com/event/omni-pa-clinic-lancaster-2/
LOCATION:PA
END:VEVENT
END:VCALENDAR