BEGIN:VCALENDAR
VERSION:2.0
PRODID:-// - ECPv6.15.18//NONSGML v1.0//EN
CALSCALE:GREGORIAN
METHOD:PUBLISH
X-ORIGINAL-URL:https://omnipatientadvocates.com
X-WR-CALDESC:Events for 
REFRESH-INTERVAL;VALUE=DURATION:PT1H
X-Robots-Tag:noindex
X-PUBLISHED-TTL:PT1H
BEGIN:VTIMEZONE
TZID:UTC
BEGIN:STANDARD
TZOFFSETFROM:+0000
TZOFFSETTO:+0000
TZNAME:UTC
DTSTART:20180101T000000
END:STANDARD
END:VTIMEZONE
BEGIN:VEVENT
DTSTART;TZID=UTC:20190309T120000
DTEND;TZID=UTC:20190309T160000
DTSTAMP:20260422T025708
CREATED:20190216T142822Z
LAST-MODIFIED:20190224T204834Z
UID:3377-1552132800-1552147200@omnipatientadvocates.com
SUMMARY:Omni Patient Advocates Clinic - Wilkes-Barre
DESCRIPTION:
URL:https://omnipatientadvocates.com/event/omni-pa-clinic-kingston-wilkes-barre/
LOCATION:PA
ORGANIZER;CN="Omni Patient Advocates":MAILTO:info@omnipatientadvocates-5bb3de.ingress-comporellon.easywp.com
END:VEVENT
END:VCALENDAR