BEGIN:VCALENDAR
VERSION:2.0
PRODID:-// - ECPv6.15.18//NONSGML v1.0//EN
CALSCALE:GREGORIAN
METHOD:PUBLISH
X-ORIGINAL-URL:https://omnipatientadvocates.com
X-WR-CALDESC:Events for 
REFRESH-INTERVAL;VALUE=DURATION:PT1H
X-Robots-Tag:noindex
X-PUBLISHED-TTL:PT1H
BEGIN:VTIMEZONE
TZID:UTC
BEGIN:STANDARD
TZOFFSETFROM:+0000
TZOFFSETTO:+0000
TZNAME:UTC
DTSTART:20180101T000000
END:STANDARD
END:VTIMEZONE
BEGIN:VEVENT
DTSTART;TZID=UTC:20190311T100000
DTEND;TZID=UTC:20190311T130000
DTSTAMP:20260422T025702
CREATED:20190216T141933Z
LAST-MODIFIED:20190224T204934Z
UID:3372-1552298400-1552309200@omnipatientadvocates.com
SUMMARY:Educational Event - Omni Patient Advocates - Chambersburg
DESCRIPTION:
URL:https://omnipatientadvocates.com/event/omni-pa-educational-event/
LOCATION:PA
END:VEVENT
END:VCALENDAR