BEGIN:VCALENDAR
VERSION:2.0
PRODID:-// - ECPv6.15.18//NONSGML v1.0//EN
CALSCALE:GREGORIAN
METHOD:PUBLISH
X-ORIGINAL-URL:https://omnipatientadvocates.com
X-WR-CALDESC:Events for 
REFRESH-INTERVAL;VALUE=DURATION:PT1H
X-Robots-Tag:noindex
X-PUBLISHED-TTL:PT1H
BEGIN:VTIMEZONE
TZID:UTC
BEGIN:STANDARD
TZOFFSETFROM:+0000
TZOFFSETTO:+0000
TZNAME:UTC
DTSTART:20180101T000000
END:STANDARD
END:VTIMEZONE
BEGIN:VEVENT
DTSTART;TZID=UTC:20190327T110000
DTEND;TZID=UTC:20190327T180000
DTSTAMP:20260422T025702
CREATED:20190224T202944Z
LAST-MODIFIED:20190224T205519Z
UID:3398-1553684400-1553709600@omnipatientadvocates.com
SUMMARY:Omni Patient Advocates Clinic - Camp Hill
DESCRIPTION:
URL:https://omnipatientadvocates.com/event/omni-pa-clinic-camp-hill-11/
LOCATION:Camp Hill\, 3419 Market Street\, PA\, 17011\, United States
ORGANIZER;CN="Omni Patient Advocates":MAILTO:info@omnipatientadvocates-5bb3de.ingress-comporellon.easywp.com
END:VEVENT
END:VCALENDAR