BEGIN:VCALENDAR
VERSION:2.0
PRODID:-// - ECPv6.15.18//NONSGML v1.0//EN
CALSCALE:GREGORIAN
METHOD:PUBLISH
X-ORIGINAL-URL:https://omnipatientadvocates.com
X-WR-CALDESC:Events for 
REFRESH-INTERVAL;VALUE=DURATION:PT1H
X-Robots-Tag:noindex
X-PUBLISHED-TTL:PT1H
BEGIN:VTIMEZONE
TZID:UTC
BEGIN:STANDARD
TZOFFSETFROM:+0000
TZOFFSETTO:+0000
TZNAME:UTC
DTSTART:20180101T000000
END:STANDARD
END:VTIMEZONE
BEGIN:VEVENT
DTSTART;TZID=UTC:20190417T110000
DTEND;TZID=UTC:20190417T150000
DTSTAMP:20260422T013704
CREATED:20190224T221322Z
LAST-MODIFIED:20190224T221322Z
UID:3427-1555498800-1555513200@omnipatientadvocates.com
SUMMARY:Omni Patient Advocates Clinic - Sunbury
DESCRIPTION:
URL:https://omnipatientadvocates.com/event/omni-patient-advocates-clinic-sunbury/
LOCATION:Sunbury\, 105 Carroll Road\, Sunbury\, PA\, 17011
END:VEVENT
END:VCALENDAR