BEGIN:VCALENDAR
VERSION:2.0
PRODID:-// - ECPv6.15.18//NONSGML v1.0//EN
CALSCALE:GREGORIAN
METHOD:PUBLISH
X-ORIGINAL-URL:https://omnipatientadvocates.com
X-WR-CALDESC:Events for 
REFRESH-INTERVAL;VALUE=DURATION:PT1H
X-Robots-Tag:noindex
X-PUBLISHED-TTL:PT1H
BEGIN:VTIMEZONE
TZID:UTC
BEGIN:STANDARD
TZOFFSETFROM:+0000
TZOFFSETTO:+0000
TZNAME:UTC
DTSTART:20180101T000000
END:STANDARD
END:VTIMEZONE
BEGIN:VEVENT
DTSTART;TZID=UTC:20190504T100000
DTEND;TZID=UTC:20190504T180000
DTSTAMP:20260421T235307
CREATED:20190224T222412Z
LAST-MODIFIED:20190430T135922Z
UID:3436-1556964000-1556992800@omnipatientadvocates.com
SUMMARY:Educational/Registration Event - Fairie Festival - Omni Patient Advocates - Sunbury
DESCRIPTION:
URL:https://omnipatientadvocates.com/event/fairie-festival-omni-patient-advocates-sunbury/
LOCATION:Sunbury\, 105 Carroll Road\, Sunbury\, PA\, 17011
ORGANIZER;CN="Haven to Home":MAILTO:fairiefestivalatspyglass@gmail.com
END:VEVENT
END:VCALENDAR