BEGIN:VCALENDAR
VERSION:2.0
PRODID:-// - ECPv6.15.18//NONSGML v1.0//EN
CALSCALE:GREGORIAN
METHOD:PUBLISH
X-ORIGINAL-URL:https://omnipatientadvocates.com
X-WR-CALDESC:Events for 
REFRESH-INTERVAL;VALUE=DURATION:PT1H
X-Robots-Tag:noindex
X-PUBLISHED-TTL:PT1H
BEGIN:VTIMEZONE
TZID:UTC
BEGIN:STANDARD
TZOFFSETFROM:+0000
TZOFFSETTO:+0000
TZNAME:UTC
DTSTART:20180101T000000
END:STANDARD
END:VTIMEZONE
BEGIN:VEVENT
DTSTART;TZID=UTC:20190507T110000
DTEND;TZID=UTC:20190507T170000
DTSTAMP:20260421T234710
CREATED:20190224T221849Z
LAST-MODIFIED:20190322T210124Z
UID:3434-1557226800-1557248400@omnipatientadvocates.com
SUMMARY:Omni Patient Advocates Clinic - Sunbury
DESCRIPTION:
URL:https://omnipatientadvocates.com/event/omni-patient-advocates-clinic-sunbury-2/
LOCATION:Sunbury\, 105 Carroll Road\, Sunbury\, PA\, 17011
END:VEVENT
END:VCALENDAR