BEGIN:VCALENDAR
VERSION:2.0
PRODID:-// - ECPv6.15.18//NONSGML v1.0//EN
CALSCALE:GREGORIAN
METHOD:PUBLISH
X-ORIGINAL-URL:https://omnipatientadvocates.com
X-WR-CALDESC:Events for 
REFRESH-INTERVAL;VALUE=DURATION:PT1H
X-Robots-Tag:noindex
X-PUBLISHED-TTL:PT1H
BEGIN:VTIMEZONE
TZID:UTC
BEGIN:STANDARD
TZOFFSETFROM:+0000
TZOFFSETTO:+0000
TZNAME:UTC
DTSTART:20180101T000000
END:STANDARD
END:VTIMEZONE
BEGIN:VEVENT
DTSTART;TZID=UTC:20191013T110000
DTEND;TZID=UTC:20191013T170000
DTSTAMP:20260422T090818
CREATED:20190920T173709Z
LAST-MODIFIED:20190920T193554Z
UID:3769-1570964400-1570986000@omnipatientadvocates.com
SUMMARY:Educational Event – East Pennsboro Pumpkin Festival
DESCRIPTION:
URL:https://omnipatientadvocates.com/event/educational-event-pennsboro-pumpkin-festival-2/
LOCATION:Adams Ricci Community Park\, 100 East Penn Drive\, Enola\, PA\, 17025\, United States
ORGANIZER;CN="Omni Patient Advocates":MAILTO:info@omnipatientadvocates-5bb3de.ingress-comporellon.easywp.com
END:VEVENT
END:VCALENDAR