BEGIN:VCALENDAR
VERSION:2.0
PRODID:-// - ECPv6.15.18//NONSGML v1.0//EN
CALSCALE:GREGORIAN
METHOD:PUBLISH
X-ORIGINAL-URL:https://omnipatientadvocates.com
X-WR-CALDESC:Events for 
REFRESH-INTERVAL;VALUE=DURATION:PT1H
X-Robots-Tag:noindex
X-PUBLISHED-TTL:PT1H
BEGIN:VTIMEZONE
TZID:UTC
BEGIN:STANDARD
TZOFFSETFROM:+0000
TZOFFSETTO:+0000
TZNAME:UTC
DTSTART:20180101T000000
END:STANDARD
END:VTIMEZONE
BEGIN:VEVENT
DTSTART;TZID=UTC:20191106T170000
DTEND;TZID=UTC:20191106T190000
DTSTAMP:20260420T235302
CREATED:20191026T130906Z
LAST-MODIFIED:20191026T130906Z
UID:3829-1573059600-1573066800@omnipatientadvocates.com
SUMMARY:Omni Patient Advocates Clinic - Gettysburg
DESCRIPTION:
URL:https://omnipatientadvocates.com/event/omni-patient-advocates-clinic-gettysburg-12/
LOCATION:Gettysburg\, 19 Baltimore Street\, Gettysburg\, PA\, 17325
ORGANIZER;CN="Omni Patient Advocates":MAILTO:info@omnipatientadvocates-5bb3de.ingress-comporellon.easywp.com
END:VEVENT
END:VCALENDAR