BEGIN:VCALENDAR
VERSION:2.0
PRODID:-// - ECPv6.15.18//NONSGML v1.0//EN
CALSCALE:GREGORIAN
METHOD:PUBLISH
X-ORIGINAL-URL:https://omnipatientadvocates.com
X-WR-CALDESC:Events for 
REFRESH-INTERVAL;VALUE=DURATION:PT1H
X-Robots-Tag:noindex
X-PUBLISHED-TTL:PT1H
BEGIN:VTIMEZONE
TZID:UTC
BEGIN:STANDARD
TZOFFSETFROM:+0000
TZOFFSETTO:+0000
TZNAME:UTC
DTSTART:20180101T000000
END:STANDARD
END:VTIMEZONE
BEGIN:VEVENT
DTSTART;TZID=UTC:20191114T110000
DTEND;TZID=UTC:20191114T130000
DTSTAMP:20260422T093013
CREATED:20191018T175759Z
LAST-MODIFIED:20191018T175759Z
UID:3808-1573729200-1573736400@omnipatientadvocates.com
SUMMARY:Omni Patient Advocates Clinic - Selinsgrove
DESCRIPTION:
URL:https://omnipatientadvocates.com/event/omni-patient-advocates-clinic-selinsgrove-3/
LOCATION:Selinsgrove\, 12 Commerce Avenue\, Selinsgrove\, PA\, 17870\, United States
ORGANIZER;CN="Omni Patient Advocates":MAILTO:info@omnipatientadvocates-5bb3de.ingress-comporellon.easywp.com
END:VEVENT
BEGIN:VEVENT
DTSTART;TZID=UTC:20191114T153000
DTEND;TZID=UTC:20191114T180000
DTSTAMP:20260422T093013
CREATED:20191018T181021Z
LAST-MODIFIED:20191018T181021Z
UID:3810-1573745400-1573754400@omnipatientadvocates.com
SUMMARY:Omni Patient Advocates Clinic - Enola
DESCRIPTION:
URL:https://omnipatientadvocates.com/event/omni-patient-advocates-clinic-enola-11/
LOCATION:Enola\, 4425 Valley Road (Suite B)\, Enola\, PA\, 17025
ORGANIZER;CN="Omni Patient Advocates":MAILTO:info@omnipatientadvocates-5bb3de.ingress-comporellon.easywp.com
END:VEVENT
END:VCALENDAR