BEGIN:VCALENDAR
VERSION:2.0
PRODID:-// - ECPv6.15.18//NONSGML v1.0//EN
CALSCALE:GREGORIAN
METHOD:PUBLISH
X-ORIGINAL-URL:https://omnipatientadvocates.com
X-WR-CALDESC:Events for 
REFRESH-INTERVAL;VALUE=DURATION:PT1H
X-Robots-Tag:noindex
X-PUBLISHED-TTL:PT1H
BEGIN:VTIMEZONE
TZID:UTC
BEGIN:STANDARD
TZOFFSETFROM:+0000
TZOFFSETTO:+0000
TZNAME:UTC
DTSTART:20190101T000000
END:STANDARD
END:VTIMEZONE
BEGIN:VEVENT
DTSTART;TZID=UTC:20200109T110000
DTEND;TZID=UTC:20200109T130000
DTSTAMP:20260421T034746
CREATED:20191218T205944Z
LAST-MODIFIED:20191218T205944Z
UID:3903-1578567600-1578574800@omnipatientadvocates.com
SUMMARY:Omni Patient Advocates Clinic - Sunbury
DESCRIPTION:
URL:https://omnipatientadvocates.com/event/omni-patient-advocates-clinic-sunbury-12/
LOCATION:PA
END:VEVENT
BEGIN:VEVENT
DTSTART;TZID=UTC:20200109T160000
DTEND;TZID=UTC:20200109T200000
DTSTAMP:20260421T034746
CREATED:20191218T210047Z
LAST-MODIFIED:20191218T210047Z
UID:3905-1578585600-1578600000@omnipatientadvocates.com
SUMMARY:Omni Patient Advocates Clinic - Camp Hill
DESCRIPTION:
URL:https://omnipatientadvocates.com/event/omni-patient-advocates-clinic-camp-hill-36/
LOCATION:PA
END:VEVENT
END:VCALENDAR