BEGIN:VCALENDAR
VERSION:2.0
PRODID:-// - ECPv6.15.18//NONSGML v1.0//EN
CALSCALE:GREGORIAN
METHOD:PUBLISH
X-ORIGINAL-URL:https://omnipatientadvocates.com
X-WR-CALDESC:Events for 
REFRESH-INTERVAL;VALUE=DURATION:PT1H
X-Robots-Tag:noindex
X-PUBLISHED-TTL:PT1H
BEGIN:VTIMEZONE
TZID:UTC
BEGIN:STANDARD
TZOFFSETFROM:+0000
TZOFFSETTO:+0000
TZNAME:UTC
DTSTART:20190101T000000
END:STANDARD
END:VTIMEZONE
BEGIN:VEVENT
DTSTART;TZID=UTC:20200115T160000
DTEND;TZID=UTC:20200115T180000
DTSTAMP:20260422T163142
CREATED:20191226T113930Z
LAST-MODIFIED:20191226T113930Z
UID:3908-1579104000-1579111200@omnipatientadvocates.com
SUMMARY:Omni Patient Advocates Clinic - Selinsgrove
DESCRIPTION:
URL:https://omnipatientadvocates.com/event/omni-patient-advocates-clinic-selinsgrove-5/
LOCATION:Selinsgrove\, 12 Commerce Avenue\, Selinsgrove\, PA\, 17870\, United States
END:VEVENT
END:VCALENDAR