BEGIN:VCALENDAR
VERSION:2.0
PRODID:-// - ECPv6.15.18//NONSGML v1.0//EN
CALSCALE:GREGORIAN
METHOD:PUBLISH
X-ORIGINAL-URL:https://omnipatientadvocates.com
X-WR-CALDESC:Events for 
REFRESH-INTERVAL;VALUE=DURATION:PT1H
X-Robots-Tag:noindex
X-PUBLISHED-TTL:PT1H
BEGIN:VTIMEZONE
TZID:UTC
BEGIN:STANDARD
TZOFFSETFROM:+0000
TZOFFSETTO:+0000
TZNAME:UTC
DTSTART:20190101T000000
END:STANDARD
END:VTIMEZONE
BEGIN:VEVENT
DTSTART;TZID=UTC:20200116T100000
DTEND;TZID=UTC:20200116T140000
DTSTAMP:20260422T204900
CREATED:20200105T124107Z
LAST-MODIFIED:20200105T124107Z
UID:3913-1579168800-1579183200@omnipatientadvocates.com
SUMMARY:Omni Patient Advocates Clinic - Enola
DESCRIPTION:
URL:https://omnipatientadvocates.com/event/omni-patient-advocates-clinic-enola-18/
LOCATION:Enola\, 4425 Valley Road (Suite B)\, Enola\, PA\, 17025
END:VEVENT
BEGIN:VEVENT
DTSTART;TZID=UTC:20200116T160000
DTEND;TZID=UTC:20200116T200000
DTSTAMP:20260422T204900
CREATED:20200105T124203Z
LAST-MODIFIED:20200105T124203Z
UID:3915-1579190400-1579204800@omnipatientadvocates.com
SUMMARY:Omni Patient Advocates Clinic - Camp Hill
DESCRIPTION:
URL:https://omnipatientadvocates.com/event/omni-patient-advocates-clinic-camp-hill-37/
LOCATION:Camp Hill\, 3419 Market Street\, PA\, 17011\, United States
END:VEVENT
END:VCALENDAR