BEGIN:VCALENDAR
VERSION:2.0
PRODID:-// - ECPv6.15.18//NONSGML v1.0//EN
CALSCALE:GREGORIAN
METHOD:PUBLISH
X-ORIGINAL-URL:https://omnipatientadvocates.com
X-WR-CALDESC:Events for 
REFRESH-INTERVAL;VALUE=DURATION:PT1H
X-Robots-Tag:noindex
X-PUBLISHED-TTL:PT1H
BEGIN:VTIMEZONE
TZID:UTC
BEGIN:STANDARD
TZOFFSETFROM:+0000
TZOFFSETTO:+0000
TZNAME:UTC
DTSTART:20190101T000000
END:STANDARD
END:VTIMEZONE
BEGIN:VEVENT
DTSTART;TZID=UTC:20200123T100000
DTEND;TZID=UTC:20200123T140000
DTSTAMP:20260422T173232
CREATED:20200113T103133Z
LAST-MODIFIED:20200113T103133Z
UID:3946-1579773600-1579788000@omnipatientadvocates.com
SUMMARY:Omni Patient Advocates Clinic - Camp Hill
DESCRIPTION:
URL:https://omnipatientadvocates.com/event/omni-patient-advocates-clinic-camp-hill-38/
LOCATION:Camp Hill\, 3419 Market Street\, PA\, 17011\, United States
END:VEVENT
BEGIN:VEVENT
DTSTART;TZID=UTC:20200123T160000
DTEND;TZID=UTC:20200123T200000
DTSTAMP:20260422T173232
CREATED:20200113T103221Z
LAST-MODIFIED:20200113T103221Z
UID:3948-1579795200-1579809600@omnipatientadvocates.com
SUMMARY:Omni Patient Advocates Clinic - Enola
DESCRIPTION:
URL:https://omnipatientadvocates.com/event/omni-patient-advocates-clinic-enola-19/
LOCATION:Enola\, 4425 Valley Road (Suite B)\, Enola\, PA\, 17025
END:VEVENT
END:VCALENDAR