BEGIN:VCALENDAR
VERSION:2.0
PRODID:-// - ECPv6.15.18//NONSGML v1.0//EN
CALSCALE:GREGORIAN
METHOD:PUBLISH
X-ORIGINAL-URL:https://omnipatientadvocates.com
X-WR-CALDESC:Events for 
REFRESH-INTERVAL;VALUE=DURATION:PT1H
X-Robots-Tag:noindex
X-PUBLISHED-TTL:PT1H
BEGIN:VTIMEZONE
TZID:UTC
BEGIN:STANDARD
TZOFFSETFROM:+0000
TZOFFSETTO:+0000
TZNAME:UTC
DTSTART:20190101T000000
END:STANDARD
END:VTIMEZONE
BEGIN:VEVENT
DTSTART;TZID=UTC:20200129T160000
DTEND;TZID=UTC:20200129T190000
DTSTAMP:20260422T233037
CREATED:20191226T114024Z
LAST-MODIFIED:20191226T114024Z
UID:3910-1580313600-1580324400@omnipatientadvocates.com
SUMMARY:Omni Patient Advocates Clinic - Williamsport
DESCRIPTION:
URL:https://omnipatientadvocates.com/event/omni-patient-advocates-clinic-williamsport-2/
LOCATION:Williamsport\, 953 Market Street\, Williamsport\, PA\, 17701\, United States
END:VEVENT
END:VCALENDAR